BEGIN:VCALENDAR
VERSION:2.0
PRODID:-//Club MojoCircle for English-Speaking Women in France - ECPv6.15.11//NONSGML v1.0//EN
CALSCALE:GREGORIAN
METHOD:PUBLISH
X-WR-CALNAME:Club MojoCircle for English-Speaking Women in France
X-ORIGINAL-URL:https://mojocircle.com
X-WR-CALDESC:Events for Club MojoCircle for English-Speaking Women in France
REFRESH-INTERVAL;VALUE=DURATION:PT1H
X-Robots-Tag:noindex
X-PUBLISHED-TTL:PT1H
BEGIN:VTIMEZONE
TZID:Europe/Paris
BEGIN:DAYLIGHT
TZOFFSETFROM:+0100
TZOFFSETTO:+0200
TZNAME:CEST
DTSTART:20200329T010000
END:DAYLIGHT
BEGIN:STANDARD
TZOFFSETFROM:+0200
TZOFFSETTO:+0100
TZNAME:CET
DTSTART:20201025T010000
END:STANDARD
BEGIN:DAYLIGHT
TZOFFSETFROM:+0100
TZOFFSETTO:+0200
TZNAME:CEST
DTSTART:20210328T010000
END:DAYLIGHT
BEGIN:STANDARD
TZOFFSETFROM:+0200
TZOFFSETTO:+0100
TZNAME:CET
DTSTART:20211031T010000
END:STANDARD
BEGIN:DAYLIGHT
TZOFFSETFROM:+0100
TZOFFSETTO:+0200
TZNAME:CEST
DTSTART:20220327T010000
END:DAYLIGHT
BEGIN:STANDARD
TZOFFSETFROM:+0200
TZOFFSETTO:+0100
TZNAME:CET
DTSTART:20221030T010000
END:STANDARD
END:VTIMEZONE
BEGIN:VEVENT
DTSTART;TZID=Europe/Paris:20211028T140000
DTEND;TZID=Europe/Paris:20211028T153000
DTSTAMP:20260423T103312
CREATED:20201028T113912Z
LAST-MODIFIED:20210820T132651Z
UID:2879-1635429600-1635435000@mojocircle.com
SUMMARY:How to Attract Clients on Social Media without €
DESCRIPTION:
URL:https://mojocircle.com/mojoevent/how-to-attract-clients-on-social-media-without-e/
CATEGORIES:Business Learning Circle
ATTACH;FMTTYPE=image/png:https://mojocircle.com/wp-content/uploads/2020/12/Audrey-Archambault-4-GHDwTD.tmp_.png
ORGANIZER;CN="Janeen Sonsie":MAILTO:janeen@mojocircle.com
END:VEVENT
END:VCALENDAR